BEGIN:VCALENDAR
VERSION:2.0
PRODID:-//The Writer&#039;s Block Books &amp; Events - ECPv5.9.2//NONSGML v1.0//EN
CALSCALE:GREGORIAN
METHOD:PUBLISH
X-WR-CALNAME:The Writer&#039;s Block Books &amp; Events
X-ORIGINAL-URL:https://writersblockak.com
X-WR-CALDESC:Events for The Writer&#039;s Block Books &amp; Events
BEGIN:VTIMEZONE
TZID:America/Anchorage
BEGIN:DAYLIGHT
TZOFFSETFROM:-0900
TZOFFSETTO:-0800
TZNAME:AKDT
DTSTART:20250309T110000
END:DAYLIGHT
BEGIN:STANDARD
TZOFFSETFROM:-0800
TZOFFSETTO:-0900
TZNAME:AKST
DTSTART:20251102T100000
END:STANDARD
END:VTIMEZONE
BEGIN:VEVENT
DTSTART;TZID=America/Anchorage:20251205T180000
DTEND;TZID=America/Anchorage:20251205T193000
DTSTAMP:20260423T024635
CREATED:20251127T024206Z
LAST-MODIFIED:20251127T024206Z
UID:8272-1764957600-1764963000@writersblockak.com
SUMMARY:Poetry Reading with Synclaire Butler
DESCRIPTION:
URL:https://writersblockak.com/event/poetry-reading-with-synclaire-butler/
CATEGORIES:Literary,Spoken Word
END:VEVENT
END:VCALENDAR