BEGIN:VCALENDAR
VERSION:2.0
PRODID:-//The Writer&#039;s Block Books &amp; Events - ECPv5.9.2//NONSGML v1.0//EN
CALSCALE:GREGORIAN
METHOD:PUBLISH
X-WR-CALNAME:The Writer&#039;s Block Books &amp; Events
X-ORIGINAL-URL:https://writersblockak.com
X-WR-CALDESC:Events for The Writer&#039;s Block Books &amp; Events
BEGIN:VTIMEZONE
TZID:America/Anchorage
BEGIN:DAYLIGHT
TZOFFSETFROM:-0900
TZOFFSETTO:-0800
TZNAME:AKDT
DTSTART:20240310T110000
END:DAYLIGHT
BEGIN:STANDARD
TZOFFSETFROM:-0800
TZOFFSETTO:-0900
TZNAME:AKST
DTSTART:20241103T100000
END:STANDARD
END:VTIMEZONE
BEGIN:VEVENT
DTSTART;TZID=America/Anchorage:20240605T170000
DTEND;TZID=America/Anchorage:20240605T190000
DTSTAMP:20260424T171632
CREATED:20240502T224711Z
LAST-MODIFIED:20240502T224711Z
UID:7221-1717606800-1717614000@writersblockak.com
SUMMARY:Michael Engelhard Book Reading & Signing
DESCRIPTION:Michael Engelhard Book Flier
URL:https://writersblockak.com/event/michael-engelhard-book-reading-signing/
LOCATION:The Writer’s Block\, 3956 Spenard Rd\, Anchorage\, Alaska\, 99517
CATEGORIES:book reading,Literary
END:VEVENT
END:VCALENDAR