BEGIN:VCALENDAR
VERSION:2.0
PRODID:-//The Writer&#039;s Block Books &amp; Events - ECPv5.9.2//NONSGML v1.0//EN
CALSCALE:GREGORIAN
METHOD:PUBLISH
X-WR-CALNAME:The Writer&#039;s Block Books &amp; Events
X-ORIGINAL-URL:https://writersblockak.com
X-WR-CALDESC:Events for The Writer&#039;s Block Books &amp; Events
BEGIN:VTIMEZONE
TZID:America/Anchorage
BEGIN:DAYLIGHT
TZOFFSETFROM:-0900
TZOFFSETTO:-0800
TZNAME:AKDT
DTSTART:20230312T110000
END:DAYLIGHT
BEGIN:STANDARD
TZOFFSETFROM:-0800
TZOFFSETTO:-0900
TZNAME:AKST
DTSTART:20231105T100000
END:STANDARD
END:VTIMEZONE
BEGIN:VEVENT
DTSTART;TZID=America/Anchorage:20230709T180000
DTEND;TZID=America/Anchorage:20230709T193000
DTSTAMP:20260423T222037
CREATED:20230704T203109Z
LAST-MODIFIED:20230704T222352Z
UID:6626-1688925600-1688931000@writersblockak.com
SUMMARY:Writing on the Edge. An Alaska book reading and conversation.
DESCRIPTION:Writing on the Edge \nAlaska authors Lily Tuzroyluke (Sivulliq)\, Ian Harman (Black Lives in Alaska) and David James (editor\, Writing on the Edge-An anthology of contemporary Alaskan stories) \nJuly 9 at 6 pm \n(David A. James has been a freelance writer in Alaska for over two decades. His work regularly appears in the Anchorage Daily News\, Fairbanks Daily News Miner\, Alaska Magazine and elsewhere. A longtime book reviewer\, he is the editor of “Writing on the Edge: An Anthology of Contemporary Alaska Stories.”) \n  \nDaily News article on Writing on the Edge: \n“The book features contemporary fiction and nonfiction\, with plenty of Alaska adventure. But it also includes urban stories like Mary Kudenov’s vignette of apartment life in Mountain View from “Threadbare” or Rob McCue’s tales of driving a taxi in Fairbanks in the middle of the winter in “One Water.” \n“’It just sort of puts you in these places where it’s like\, this is the everyday Alaska and not just climbing Denali\, although that’s in there as well\,” James said. “And it’s part of the sense that it can go to just incredible highs and incredible lows\, and everything in between.’” \n  \nDavid James article about Lily Tuzroyluke’s book\, “Sivulliq.” \nDavid James’ article about “Black Lives in Alaska: A History of African Americans in the Far Northwest” by Ian C. Hartman and David Reamer
URL:https://writersblockak.com/event/writing-on-the-edge-a-book-reading-and-conversation/
LOCATION:The Writer’s Block\, 3956 Spenard Rd\, Anchorage\, Alaska\, 99517
CATEGORIES:Literary
ATTACH;FMTTYPE=image/png:https://writersblockak.com/wp-content/uploads/2023/07/Screenshot-2023-06-20-at-10.37.34-PM.png
END:VEVENT
END:VCALENDAR