BEGIN:VCALENDAR
VERSION:2.0
PRODID:-//The Writer&#039;s Block Books &amp; Events - ECPv5.9.2//NONSGML v1.0//EN
CALSCALE:GREGORIAN
METHOD:PUBLISH
X-WR-CALNAME:The Writer&#039;s Block Books &amp; Events
X-ORIGINAL-URL:https://writersblockak.com
X-WR-CALDESC:Events for The Writer&#039;s Block Books &amp; Events
BEGIN:VTIMEZONE
TZID:America/Anchorage
BEGIN:DAYLIGHT
TZOFFSETFROM:-0900
TZOFFSETTO:-0800
TZNAME:AKDT
DTSTART:20260308T110000
END:DAYLIGHT
BEGIN:STANDARD
TZOFFSETFROM:-0800
TZOFFSETTO:-0900
TZNAME:AKST
DTSTART:20261101T100000
END:STANDARD
END:VTIMEZONE
BEGIN:VEVENT
DTSTART;TZID=America/Anchorage:20260128T180000
DTEND;TZID=America/Anchorage:20260128T193000
DTSTAMP:20260423T124614
CREATED:20260115T030645Z
LAST-MODIFIED:20260125T021815Z
UID:8328-1769623200-1769628600@writersblockak.com
SUMMARY:WB Community Gathering/Organic Oasis
DESCRIPTION:Networking Community and we’ll find some way to make it entertaining… 🙂 \nAt the Organic Oasis!
URL:https://writersblockak.com/event/wb-community-gathering/
LOCATION:Organic Oasis\, 2610 Spenard Rd\, Ste B\, Anchorage\, AK\, 99503\, United States
CATEGORIES:Community Meeting
ORGANIZER;CN="Neva%20Reece":MAILTO:sendmethenews@gmail.com
END:VEVENT
END:VCALENDAR