BEGIN:VCALENDAR
VERSION:2.0
PRODID:-//The Writer&#039;s Block Books &amp; Events - ECPv5.9.2//NONSGML v1.0//EN
CALSCALE:GREGORIAN
METHOD:PUBLISH
X-WR-CALNAME:The Writer&#039;s Block Books &amp; Events
X-ORIGINAL-URL:https://writersblockak.com
X-WR-CALDESC:Events for The Writer&#039;s Block Books &amp; Events
BEGIN:VTIMEZONE
TZID:America/Anchorage
BEGIN:DAYLIGHT
TZOFFSETFROM:-0900
TZOFFSETTO:-0800
TZNAME:AKDT
DTSTART:20230312T110000
END:DAYLIGHT
BEGIN:STANDARD
TZOFFSETFROM:-0800
TZOFFSETTO:-0900
TZNAME:AKST
DTSTART:20231105T100000
END:STANDARD
END:VTIMEZONE
BEGIN:VEVENT
DTSTART;TZID=America/Anchorage:20230514T120000
DTEND;TZID=America/Anchorage:20230514T140000
DTSTAMP:20260423T163412
CREATED:20230501T182124Z
LAST-MODIFIED:20230501T182124Z
UID:6542-1684065600-1684072800@writersblockak.com
SUMMARY:Sunday Brunch w/ THV
DESCRIPTION:Plugged mellow vibes with Lance Howard and pals.
URL:https://writersblockak.com/event/sunday-brunch-w-thv/
END:VEVENT
END:VCALENDAR