BEGIN:VCALENDAR
VERSION:2.0
PRODID:-//The Writer&#039;s Block Books &amp; Events - ECPv5.9.2//NONSGML v1.0//EN
CALSCALE:GREGORIAN
METHOD:PUBLISH
X-WR-CALNAME:The Writer&#039;s Block Books &amp; Events
X-ORIGINAL-URL:https://writersblockak.com
X-WR-CALDESC:Events for The Writer&#039;s Block Books &amp; Events
BEGIN:VTIMEZONE
TZID:America/Anchorage
BEGIN:DAYLIGHT
TZOFFSETFROM:-0900
TZOFFSETTO:-0800
TZNAME:AKDT
DTSTART:20260308T110000
END:DAYLIGHT
BEGIN:STANDARD
TZOFFSETFROM:-0800
TZOFFSETTO:-0900
TZNAME:AKST
DTSTART:20261101T100000
END:STANDARD
END:VTIMEZONE
BEGIN:VEVENT
DTSTART;TZID=America/Anchorage:20260201T120000
DTEND;TZID=America/Anchorage:20260201T170000
DTSTAMP:20260423T232859
CREATED:20260115T031243Z
LAST-MODIFIED:20260115T032617Z
UID:8333-1769947200-1769965200@writersblockak.com
SUMMARY:Spenard Song Circle - Workshop and All Ages Open Jam
DESCRIPTION:Workshop is from noon to 2pm\,  jam starts at 3pm\nTurnagain Arts Building (4105 Turnagain Blvd E\, Anchorage\, AK 99517\nCheck their website for additional events through early March. \nhttps://spenardsongcircle.org/
URL:https://writersblockak.com/event/spenardsongcircle/
CATEGORIES:Music
END:VEVENT
END:VCALENDAR