BEGIN:VCALENDAR
VERSION:2.0
PRODID:-//The Writer&#039;s Block Books &amp; Events - ECPv5.9.2//NONSGML v1.0//EN
CALSCALE:GREGORIAN
METHOD:PUBLISH
X-WR-CALNAME:The Writer&#039;s Block Books &amp; Events
X-ORIGINAL-URL:https://writersblockak.com
X-WR-CALDESC:Events for The Writer&#039;s Block Books &amp; Events
BEGIN:VTIMEZONE
TZID:America/Anchorage
BEGIN:DAYLIGHT
TZOFFSETFROM:-0900
TZOFFSETTO:-0800
TZNAME:AKDT
DTSTART:20260308T110000
END:DAYLIGHT
BEGIN:STANDARD
TZOFFSETFROM:-0800
TZOFFSETTO:-0900
TZNAME:AKST
DTSTART:20261101T100000
END:STANDARD
END:VTIMEZONE
BEGIN:VEVENT
DTSTART;TZID=America/Anchorage:20260308T170000
DTEND;TZID=America/Anchorage:20260308T190000
DTSTAMP:20260424T053039
CREATED:20260308T014749Z
LAST-MODIFIED:20260308T014749Z
UID:8375-1772989200-1772996400@writersblockak.com
SUMMARY:Spenard Song Circle
DESCRIPTION:Turnagain Arts Building  – 5 to 7PM
URL:https://writersblockak.com/event/spenard-song-circle/
CATEGORIES:Music
END:VEVENT
END:VCALENDAR