BEGIN:VCALENDAR
VERSION:2.0
PRODID:-//The Writer&#039;s Block Books &amp; Events - ECPv5.9.2//NONSGML v1.0//EN
CALSCALE:GREGORIAN
METHOD:PUBLISH
X-WR-CALNAME:The Writer&#039;s Block Books &amp; Events
X-ORIGINAL-URL:https://writersblockak.com
X-WR-CALDESC:Events for The Writer&#039;s Block Books &amp; Events
BEGIN:VTIMEZONE
TZID:America/Anchorage
BEGIN:DAYLIGHT
TZOFFSETFROM:-0900
TZOFFSETTO:-0800
TZNAME:AKDT
DTSTART:20260308T110000
END:DAYLIGHT
BEGIN:STANDARD
TZOFFSETFROM:-0800
TZOFFSETTO:-0900
TZNAME:AKST
DTSTART:20261101T100000
END:STANDARD
END:VTIMEZONE
BEGIN:VEVENT
DTSTART;TZID=America/Anchorage:20260314T140000
DTEND;TZID=America/Anchorage:20260314T210000
DTSTAMP:20260424T090758
CREATED:20260308T014900Z
LAST-MODIFIED:20260308T014900Z
UID:8377-1773496800-1773522000@writersblockak.com
SUMMARY:Spenard Song Circle Fundraiser
DESCRIPTION:At the Nave \n2 pm to 9 pm
URL:https://writersblockak.com/event/spenard-song-circle-fundraiser/
END:VEVENT
END:VCALENDAR