BEGIN:VCALENDAR
VERSION:2.0
PRODID:-//The Writer&#039;s Block Books &amp; Events - ECPv5.9.2//NONSGML v1.0//EN
CALSCALE:GREGORIAN
METHOD:PUBLISH
X-WR-CALNAME:The Writer&#039;s Block Books &amp; Events
X-ORIGINAL-URL:https://writersblockak.com
X-WR-CALDESC:Events for The Writer&#039;s Block Books &amp; Events
BEGIN:VTIMEZONE
TZID:America/Anchorage
BEGIN:DAYLIGHT
TZOFFSETFROM:-0900
TZOFFSETTO:-0800
TZNAME:AKDT
DTSTART:20220313T110000
END:DAYLIGHT
BEGIN:STANDARD
TZOFFSETFROM:-0800
TZOFFSETTO:-0900
TZNAME:AKST
DTSTART:20221106T100000
END:STANDARD
END:VTIMEZONE
BEGIN:VEVENT
DTSTART;TZID=America/Anchorage:20221210T160000
DTEND;TZID=America/Anchorage:20221210T180000
DTSTAMP:20260419T101459
CREATED:20221201T170026Z
LAST-MODIFIED:20221201T170026Z
UID:6382-1670688000-1670695200@writersblockak.com
SUMMARY:Spenard Second Saturday
DESCRIPTION:An encore presentation featuring Amy Holonics\, artist with live music.
URL:https://writersblockak.com/event/spenard-second-saturday/
END:VEVENT
END:VCALENDAR