BEGIN:VCALENDAR
VERSION:2.0
PRODID:-//The Writer&#039;s Block Books &amp; Events - ECPv5.9.2//NONSGML v1.0//EN
CALSCALE:GREGORIAN
METHOD:PUBLISH
X-WR-CALNAME:The Writer&#039;s Block Books &amp; Events
X-ORIGINAL-URL:https://writersblockak.com
X-WR-CALDESC:Events for The Writer&#039;s Block Books &amp; Events
BEGIN:VTIMEZONE
TZID:America/Anchorage
BEGIN:DAYLIGHT
TZOFFSETFROM:-0900
TZOFFSETTO:-0800
TZNAME:AKDT
DTSTART:20230312T110000
END:DAYLIGHT
BEGIN:STANDARD
TZOFFSETFROM:-0800
TZOFFSETTO:-0900
TZNAME:AKST
DTSTART:20231105T100000
END:STANDARD
END:VTIMEZONE
BEGIN:VEVENT
DTSTART;TZID=America/Anchorage:20230311T160000
DTEND;TZID=America/Anchorage:20230311T180000
DTSTAMP:20260423T142115
CREATED:20230224T175020Z
LAST-MODIFIED:20230224T175020Z
UID:6454-1678550400-1678557600@writersblockak.com
SUMMARY:Spenard 2nd Saturday
DESCRIPTION:An encore showing of Monstera Dad Fibers\, our featured March artist.
URL:https://writersblockak.com/event/spenard-2nd-saturday/
END:VEVENT
END:VCALENDAR