BEGIN:VCALENDAR
VERSION:2.0
PRODID:-//The Writer&#039;s Block Books &amp; Events - ECPv5.9.2//NONSGML v1.0//EN
CALSCALE:GREGORIAN
METHOD:PUBLISH
X-WR-CALNAME:The Writer&#039;s Block Books &amp; Events
X-ORIGINAL-URL:https://writersblockak.com
X-WR-CALDESC:Events for The Writer&#039;s Block Books &amp; Events
BEGIN:VTIMEZONE
TZID:America/Anchorage
BEGIN:DAYLIGHT
TZOFFSETFROM:-0900
TZOFFSETTO:-0800
TZNAME:AKDT
DTSTART:20230312T110000
END:DAYLIGHT
BEGIN:STANDARD
TZOFFSETFROM:-0800
TZOFFSETTO:-0900
TZNAME:AKST
DTSTART:20231105T100000
END:STANDARD
END:VTIMEZONE
BEGIN:VEVENT
DTSTART;TZID=America/Anchorage:20231025T180000
DTEND;TZID=America/Anchorage:20231025T193000
DTSTAMP:20260425T184714
CREATED:20231020T061805Z
LAST-MODIFIED:20231020T061908Z
UID:6691-1698256800-1698262200@writersblockak.com
SUMMARY:"Shield Maiden" book launch with writer Sharon Emmerichs
DESCRIPTION:Shield Maiden launch party and reading! \nJoin author Sharon Emmerichs in kicking off the U.S. release of her book “Shield Maiden\,” a romantic\, fantasy\, historical retelling of the Beowulf poem from the point of view of a disabled woman who wishes to become a shield maiden to protect  her clan. \nSharon is an Associate Professor of English at UAA who teaches medieval and early modern literature and Shakespeare. Her book was published in the UK in February 2023 and it became an immediate Sunday Times Top Ten bestseller its first week. It won the Jason Wenger Award for Excellence in Creative Writing from the UAA Creative Writing and Literary Arts program\, and it was chosen as Book of the Month from the prestigious Goldsboro Bookstore in London.
URL:https://writersblockak.com/event/shield-maiden-book-launch-with-writer-sharon-emmerichs/
END:VEVENT
END:VCALENDAR