BEGIN:VCALENDAR
VERSION:2.0
PRODID:-//The Writer&#039;s Block Books &amp; Events - ECPv5.9.2//NONSGML v1.0//EN
CALSCALE:GREGORIAN
METHOD:PUBLISH
X-WR-CALNAME:The Writer&#039;s Block Books &amp; Events
X-ORIGINAL-URL:https://writersblockak.com
X-WR-CALDESC:Events for The Writer&#039;s Block Books &amp; Events
BEGIN:VTIMEZONE
TZID:America/Anchorage
BEGIN:DAYLIGHT
TZOFFSETFROM:-0900
TZOFFSETTO:-0800
TZNAME:AKDT
DTSTART:20250309T110000
END:DAYLIGHT
BEGIN:STANDARD
TZOFFSETFROM:-0800
TZOFFSETTO:-0900
TZNAME:AKST
DTSTART:20251102T100000
END:STANDARD
END:VTIMEZONE
BEGIN:VEVENT
DTSTART;TZID=America/Anchorage:20250131T180000
DTEND;TZID=America/Anchorage:20250131T200000
DTSTAMP:20260423T011525
CREATED:20241002T201130Z
LAST-MODIFIED:20241002T201130Z
UID:7520-1738346400-1738353600@writersblockak.com
SUMMARY:Sex Ed Trivia Night
DESCRIPTION:
URL:https://writersblockak.com/event/sex-ed-trivia-night-2/
LOCATION:The Writer’s Block\, 3956 Spenard Rd\, Anchorage\, Alaska\, 99517
CATEGORIES:Trivia
END:VEVENT
END:VCALENDAR