BEGIN:VCALENDAR
VERSION:2.0
PRODID:-//The Writer&#039;s Block Books &amp; Events - ECPv5.9.2//NONSGML v1.0//EN
CALSCALE:GREGORIAN
METHOD:PUBLISH
X-WR-CALNAME:The Writer&#039;s Block Books &amp; Events
X-ORIGINAL-URL:https://writersblockak.com
X-WR-CALDESC:Events for The Writer&#039;s Block Books &amp; Events
BEGIN:VTIMEZONE
TZID:America/Anchorage
BEGIN:DAYLIGHT
TZOFFSETFROM:-0900
TZOFFSETTO:-0800
TZNAME:AKDT
DTSTART:20230312T110000
END:DAYLIGHT
BEGIN:STANDARD
TZOFFSETFROM:-0800
TZOFFSETTO:-0900
TZNAME:AKST
DTSTART:20231105T100000
END:STANDARD
END:VTIMEZONE
BEGIN:VEVENT
DTSTART;TZID=America/Anchorage:20230217T180000
DTEND;TZID=America/Anchorage:20230217T220000
DTSTAMP:20260422T210345
CREATED:20230129T043519Z
LAST-MODIFIED:20230129T043519Z
UID:6429-1676656800-1676671200@writersblockak.com
SUMMARY:Rogues & Wenches
DESCRIPTION:Local favorite Irish band is back at The Block!
URL:https://writersblockak.com/event/rogues-wenches/
END:VEVENT
END:VCALENDAR