BEGIN:VCALENDAR
VERSION:2.0
PRODID:-//The Writer&#039;s Block Books &amp; Events - ECPv5.9.2//NONSGML v1.0//EN
CALSCALE:GREGORIAN
METHOD:PUBLISH
X-WR-CALNAME:The Writer&#039;s Block Books &amp; Events
X-ORIGINAL-URL:https://writersblockak.com
X-WR-CALDESC:Events for The Writer&#039;s Block Books &amp; Events
BEGIN:VTIMEZONE
TZID:America/Anchorage
BEGIN:DAYLIGHT
TZOFFSETFROM:-0900
TZOFFSETTO:-0800
TZNAME:AKDT
DTSTART:20240310T110000
END:DAYLIGHT
BEGIN:STANDARD
TZOFFSETFROM:-0800
TZOFFSETTO:-0900
TZNAME:AKST
DTSTART:20241103T100000
END:STANDARD
END:VTIMEZONE
BEGIN:VEVENT
DTSTART;TZID=America/Anchorage:20240119T180000
DTEND;TZID=America/Anchorage:20240119T200000
DTSTAMP:20260425T084251
CREATED:20231229T200828Z
LAST-MODIFIED:20240112T050044Z
UID:6829-1705687200-1705694400@writersblockak.com
SUMMARY:Poetry zine release party with readings
DESCRIPTION:Taryl and Andrew are lifelong Alaskans and friends who met working in a kitchen together in the early 2000’s.  They have both been writers and poets since before they can remember\, their writing styles are very different but have proven they can come together on the page.  Taryl\, being more of a spoken word poet\, and Andrew creating beautifully dark visuals with words.  Striving to bring more all ages events to anchorage has been one of Andrew’s main feats\, be it music and now poetry with the help of Taryl and her connections to the poetry community. They are so very thrilled to share this collection of works with their community in hopes it will encourage others to speak and write their truths and share their stories of the cold\, dark\, desolate and beautiful landscape that is Alaska.
URL:https://writersblockak.com/event/poetry-zine-release-party-with-readings/
CATEGORIES:Literary,Spoken Word
END:VEVENT
END:VCALENDAR