BEGIN:VCALENDAR
VERSION:2.0
PRODID:-//The Writer&#039;s Block Books &amp; Events - ECPv5.9.2//NONSGML v1.0//EN
CALSCALE:GREGORIAN
METHOD:PUBLISH
X-WR-CALNAME:The Writer&#039;s Block Books &amp; Events
X-ORIGINAL-URL:https://writersblockak.com
X-WR-CALDESC:Events for The Writer&#039;s Block Books &amp; Events
BEGIN:VTIMEZONE
TZID:America/Anchorage
BEGIN:DAYLIGHT
TZOFFSETFROM:-0900
TZOFFSETTO:-0800
TZNAME:AKDT
DTSTART:20220313T110000
END:DAYLIGHT
BEGIN:STANDARD
TZOFFSETFROM:-0800
TZOFFSETTO:-0900
TZNAME:AKST
DTSTART:20221106T100000
END:STANDARD
END:VTIMEZONE
BEGIN:VEVENT
DTSTART;TZID=America/Anchorage:20221221T180000
DTEND;TZID=America/Anchorage:20221221T200000
DTSTAMP:20260419T180358
CREATED:20221203T234416Z
LAST-MODIFIED:20221203T234416Z
UID:6390-1671645600-1671652800@writersblockak.com
SUMMARY:Poetry Parley
DESCRIPTION:Our friends at Poetry Parley are back with a featured poet of the month. Stay posted for details on Facebook and Instagram.
URL:https://writersblockak.com/event/poetry-parley-7/
END:VEVENT
END:VCALENDAR