BEGIN:VCALENDAR
VERSION:2.0
PRODID:-//The Writer&#039;s Block Books &amp; Events - ECPv5.9.2//NONSGML v1.0//EN
CALSCALE:GREGORIAN
METHOD:PUBLISH
X-WR-CALNAME:The Writer&#039;s Block Books &amp; Events
X-ORIGINAL-URL:https://writersblockak.com
X-WR-CALDESC:Events for The Writer&#039;s Block Books &amp; Events
BEGIN:VTIMEZONE
TZID:America/Anchorage
BEGIN:DAYLIGHT
TZOFFSETFROM:-0900
TZOFFSETTO:-0800
TZNAME:AKDT
DTSTART:20250309T110000
END:DAYLIGHT
BEGIN:STANDARD
TZOFFSETFROM:-0800
TZOFFSETTO:-0900
TZNAME:AKST
DTSTART:20251102T100000
END:STANDARD
END:VTIMEZONE
BEGIN:VEVENT
DTSTART;TZID=America/Anchorage:20251214T120000
DTEND;TZID=America/Anchorage:20251214T140000
DTSTAMP:20260423T072139
CREATED:20251120T061234Z
LAST-MODIFIED:20251120T061234Z
UID:8244-1765713600-1765720800@writersblockak.com
SUMMARY:Pepper Kit! Live Music for Sunday Brunch
DESCRIPTION:
URL:https://writersblockak.com/event/pepper-kit-live-music-for-sunday-brunch/
CATEGORIES:Music
END:VEVENT
END:VCALENDAR