BEGIN:VCALENDAR
VERSION:2.0
PRODID:-//The Writer&#039;s Block Books &amp; Events - ECPv5.9.2//NONSGML v1.0//EN
CALSCALE:GREGORIAN
METHOD:PUBLISH
X-WR-CALNAME:The Writer&#039;s Block Books &amp; Events
X-ORIGINAL-URL:https://writersblockak.com
X-WR-CALDESC:Events for The Writer&#039;s Block Books &amp; Events
BEGIN:VTIMEZONE
TZID:America/Anchorage
BEGIN:DAYLIGHT
TZOFFSETFROM:-0900
TZOFFSETTO:-0800
TZNAME:AKDT
DTSTART:20250309T110000
END:DAYLIGHT
BEGIN:STANDARD
TZOFFSETFROM:-0800
TZOFFSETTO:-0900
TZNAME:AKST
DTSTART:20251102T100000
END:STANDARD
END:VTIMEZONE
BEGIN:VEVENT
DTSTART;TZID=America/Anchorage:20251130T110000
DTEND;TZID=America/Anchorage:20251130T123000
DTSTAMP:20260423T170215
CREATED:20251126T065817Z
LAST-MODIFIED:20251126T065817Z
UID:8268-1764500400-1764505800@writersblockak.com
SUMMARY:Neva Reece\, Sunday Brunch Live Music 11-12:30
DESCRIPTION:
URL:https://writersblockak.com/event/neva-reece-sunday-brunch-live-music-11-1230/
CATEGORIES:Music
END:VEVENT
END:VCALENDAR