BEGIN:VCALENDAR
VERSION:2.0
PRODID:-//The Writer&#039;s Block Books &amp; Events - ECPv5.9.2//NONSGML v1.0//EN
CALSCALE:GREGORIAN
METHOD:PUBLISH
X-WR-CALNAME:The Writer&#039;s Block Books &amp; Events
X-ORIGINAL-URL:https://writersblockak.com
X-WR-CALDESC:Events for The Writer&#039;s Block Books &amp; Events
BEGIN:VTIMEZONE
TZID:America/Anchorage
BEGIN:DAYLIGHT
TZOFFSETFROM:-0900
TZOFFSETTO:-0800
TZNAME:AKDT
DTSTART:20230312T110000
END:DAYLIGHT
BEGIN:STANDARD
TZOFFSETFROM:-0800
TZOFFSETTO:-0900
TZNAME:AKST
DTSTART:20231105T100000
END:STANDARD
END:VTIMEZONE
BEGIN:VEVENT
DTSTART;TZID=America/Anchorage:20230204T180000
DTEND;TZID=America/Anchorage:20230204T200000
DTSTAMP:20260422T095754
CREATED:20230129T042821Z
LAST-MODIFIED:20230129T042821Z
UID:6421-1675533600-1675540800@writersblockak.com
SUMMARY:Kayti Heller w/ Solar Gain
DESCRIPTION:Stage event. Music. Pass the hat event. Your donations are much apprecited.
URL:https://writersblockak.com/event/kayti-heller-w-solar-gain/
END:VEVENT
END:VCALENDAR