BEGIN:VCALENDAR
VERSION:2.0
PRODID:-//The Writer&#039;s Block Books &amp; Events - ECPv5.9.2//NONSGML v1.0//EN
CALSCALE:GREGORIAN
METHOD:PUBLISH
X-WR-CALNAME:The Writer&#039;s Block Books &amp; Events
X-ORIGINAL-URL:https://writersblockak.com
X-WR-CALDESC:Events for The Writer&#039;s Block Books &amp; Events
BEGIN:VTIMEZONE
TZID:America/Anchorage
BEGIN:DAYLIGHT
TZOFFSETFROM:-0900
TZOFFSETTO:-0800
TZNAME:AKDT
DTSTART:20260308T110000
END:DAYLIGHT
BEGIN:STANDARD
TZOFFSETFROM:-0800
TZOFFSETTO:-0900
TZNAME:AKST
DTSTART:20261101T100000
END:STANDARD
END:VTIMEZONE
BEGIN:VEVENT
DTSTART;TZID=America/Anchorage:20260105T080000
DTEND;TZID=America/Anchorage:20260105T170000
DTSTAMP:20260424T023628
CREATED:20251215T040005Z
LAST-MODIFIED:20251215T040005Z
UID:8286-1767600000-1767632400@writersblockak.com
SUMMARY:“It is clear that the books owned the shop rather than the other way about. Everywhere they had run wild and taken possession of their habitat\, breeding and multiplying\, and clearly lacking any strong hand to keep them down.” ― Agatha Christie\, The Clocks
DESCRIPTION:
URL:https://writersblockak.com/event/it-is-clear-that-the-books-owned-the-shop-rather-than-the-other-way-about-everywhere-they-had-run-wild-and-taken-possession-of-their-habitat-breeding-and-multiplying-and-clearly-lacking-an/
END:VEVENT
END:VCALENDAR