BEGIN:VCALENDAR
VERSION:2.0
PRODID:-//The Writer&#039;s Block Books &amp; Events - ECPv5.9.2//NONSGML v1.0//EN
CALSCALE:GREGORIAN
METHOD:PUBLISH
X-WR-CALNAME:The Writer&#039;s Block Books &amp; Events
X-ORIGINAL-URL:https://writersblockak.com
X-WR-CALDESC:Events for The Writer&#039;s Block Books &amp; Events
BEGIN:VTIMEZONE
TZID:America/Anchorage
BEGIN:DAYLIGHT
TZOFFSETFROM:-0900
TZOFFSETTO:-0800
TZNAME:AKDT
DTSTART:20250309T110000
END:DAYLIGHT
BEGIN:STANDARD
TZOFFSETFROM:-0800
TZOFFSETTO:-0900
TZNAME:AKST
DTSTART:20251102T100000
END:STANDARD
END:VTIMEZONE
BEGIN:VEVENT
DTSTART;TZID=America/Anchorage:20251116T180000
DTEND;TZID=America/Anchorage:20251116T200000
DTSTAMP:20260423T085805
CREATED:20250920T032506Z
LAST-MODIFIED:20250920T032506Z
UID:8130-1763316000-1763323200@writersblockak.com
SUMMARY:Irish Traditional Music with Jim Kerr\, Denise Kerr and friends! 
DESCRIPTION:
URL:https://writersblockak.com/event/irish-traditional-music-with-jim-kerr-denise-kerr-and-friends-3/
CATEGORIES:Music
END:VEVENT
END:VCALENDAR