BEGIN:VCALENDAR
VERSION:2.0
PRODID:-//The Writer&#039;s Block Books &amp; Events - ECPv5.9.2//NONSGML v1.0//EN
CALSCALE:GREGORIAN
METHOD:PUBLISH
X-WR-CALNAME:The Writer&#039;s Block Books &amp; Events
X-ORIGINAL-URL:https://writersblockak.com
X-WR-CALDESC:Events for The Writer&#039;s Block Books &amp; Events
BEGIN:VTIMEZONE
TZID:America/Anchorage
BEGIN:DAYLIGHT
TZOFFSETFROM:-0900
TZOFFSETTO:-0800
TZNAME:AKDT
DTSTART:20230312T110000
END:DAYLIGHT
BEGIN:STANDARD
TZOFFSETFROM:-0800
TZOFFSETTO:-0900
TZNAME:AKST
DTSTART:20231105T100000
END:STANDARD
END:VTIMEZONE
BEGIN:VEVENT
DTSTART;TZID=America/Anchorage:20230708T180000
DTEND;TZID=America/Anchorage:20230708T193000
DTSTAMP:20260423T131849
CREATED:20230704T201707Z
LAST-MODIFIED:20230704T222208Z
UID:6624-1688839200-1688844600@writersblockak.com
SUMMARY:Ava Earl is back!
DESCRIPTION:Ava Earl of Girdwood is doing an Alaska tour with a stop at the Block next Saturday. She first played at the Block when still in high school and has grown into a vulnerable\, raw\, and prolific storyteller. Check out her new album\, “Acronyms.”\nhttps://www.avaearl.com/home \n$10 at the door
URL:https://writersblockak.com/event/eva-earl-is-back/
LOCATION:The Writer’s Block\, 3956 Spenard Rd\, Anchorage\, Alaska\, 99517
CATEGORIES:Music
ATTACH;FMTTYPE=image/jpeg:https://writersblockak.com/wp-content/uploads/2023/07/5e4c4646bb742.image_.jpg
END:VEVENT
END:VCALENDAR