BEGIN:VCALENDAR
VERSION:2.0
PRODID:-//The Writer&#039;s Block Books &amp; Events - ECPv5.9.2//NONSGML v1.0//EN
CALSCALE:GREGORIAN
METHOD:PUBLISH
X-WR-CALNAME:The Writer&#039;s Block Books &amp; Events
X-ORIGINAL-URL:https://writersblockak.com
X-WR-CALDESC:Events for The Writer&#039;s Block Books &amp; Events
BEGIN:VTIMEZONE
TZID:America/Anchorage
BEGIN:DAYLIGHT
TZOFFSETFROM:-0900
TZOFFSETTO:-0800
TZNAME:AKDT
DTSTART:20230312T110000
END:DAYLIGHT
BEGIN:STANDARD
TZOFFSETFROM:-0800
TZOFFSETTO:-0900
TZNAME:AKST
DTSTART:20231105T100000
END:STANDARD
END:VTIMEZONE
BEGIN:VEVENT
DTSTART;TZID=America/Anchorage:20230408T190000
DTEND;TZID=America/Anchorage:20230408T210000
DTSTAMP:20260425T054645
CREATED:20230401T082730Z
LAST-MODIFIED:20230401T082730Z
UID:6485-1680980400-1680987600@writersblockak.com
SUMMARY:Edutainment Nite Poetry Slam
DESCRIPTION:Host: Sonny Golden \nTheme: Thanks For Sharing \nSign up before 6:45pm
URL:https://writersblockak.com/event/edutainment-nite-poetry-slam-4/
END:VEVENT
END:VCALENDAR