BEGIN:VCALENDAR
VERSION:2.0
PRODID:-//The Writer&#039;s Block Books &amp; Events - ECPv5.9.2//NONSGML v1.0//EN
CALSCALE:GREGORIAN
METHOD:PUBLISH
X-WR-CALNAME:The Writer&#039;s Block Books &amp; Events
X-ORIGINAL-URL:https://writersblockak.com
X-WR-CALDESC:Events for The Writer&#039;s Block Books &amp; Events
BEGIN:VTIMEZONE
TZID:America/Anchorage
BEGIN:DAYLIGHT
TZOFFSETFROM:-0900
TZOFFSETTO:-0800
TZNAME:AKDT
DTSTART:20230312T110000
END:DAYLIGHT
BEGIN:STANDARD
TZOFFSETFROM:-0800
TZOFFSETTO:-0900
TZNAME:AKST
DTSTART:20231105T100000
END:STANDARD
END:VTIMEZONE
BEGIN:VEVENT
DTSTART;TZID=America/Anchorage:20230413T180000
DTEND;TZID=America/Anchorage:20230413T200000
DTSTAMP:20260425T072835
CREATED:20230401T083624Z
LAST-MODIFIED:20230401T083624Z
UID:6493-1681408800-1681416000@writersblockak.com
SUMMARY:Christine Byl Book Reading w/ Don Rearden hosting
DESCRIPTION:A reading from her book Lookout and a conversation with fellow author Don Rearden..
URL:https://writersblockak.com/event/christine-byl-book-reading-w-don-rearden-hosting/
END:VEVENT
END:VCALENDAR