BEGIN:VCALENDAR
VERSION:2.0
PRODID:-//The Writer&#039;s Block Books &amp; Events - ECPv5.9.2//NONSGML v1.0//EN
CALSCALE:GREGORIAN
METHOD:PUBLISH
X-WR-CALNAME:The Writer&#039;s Block Books &amp; Events
X-ORIGINAL-URL:https://writersblockak.com
X-WR-CALDESC:Events for The Writer&#039;s Block Books &amp; Events
BEGIN:VTIMEZONE
TZID:America/Anchorage
BEGIN:DAYLIGHT
TZOFFSETFROM:-0900
TZOFFSETTO:-0800
TZNAME:AKDT
DTSTART:20230312T110000
END:DAYLIGHT
BEGIN:STANDARD
TZOFFSETFROM:-0800
TZOFFSETTO:-0900
TZNAME:AKST
DTSTART:20231105T100000
END:STANDARD
END:VTIMEZONE
BEGIN:VEVENT
DTSTART;TZID=America/Anchorage:20231112T120000
DTEND;TZID=America/Anchorage:20231112T140000
DTSTAMP:20260425T065803
CREATED:20231020T064720Z
LAST-MODIFIED:20231130T070520Z
UID:6726-1699790400-1699797600@writersblockak.com
SUMMARY:Brunch Music with Ten Dollar Bet
DESCRIPTION:
URL:https://writersblockak.com/event/brunch-music-with-ten-dollar-bet-2/
CATEGORIES:Music
END:VEVENT
END:VCALENDAR