BEGIN:VCALENDAR
VERSION:2.0
PRODID:-//The Writer&#039;s Block Books &amp; Events - ECPv5.9.2//NONSGML v1.0//EN
CALSCALE:GREGORIAN
METHOD:PUBLISH
X-WR-CALNAME:The Writer&#039;s Block Books &amp; Events
X-ORIGINAL-URL:https://writersblockak.com
X-WR-CALDESC:Events for The Writer&#039;s Block Books &amp; Events
BEGIN:VTIMEZONE
TZID:America/Anchorage
BEGIN:DAYLIGHT
TZOFFSETFROM:-0900
TZOFFSETTO:-0800
TZNAME:AKDT
DTSTART:20250309T110000
END:DAYLIGHT
BEGIN:STANDARD
TZOFFSETFROM:-0800
TZOFFSETTO:-0900
TZNAME:AKST
DTSTART:20251102T100000
END:STANDARD
END:VTIMEZONE
BEGIN:VEVENT
DTSTART;TZID=America/Anchorage:20251128T110000
DTEND;TZID=America/Anchorage:20251130T200000
DTSTAMP:20260423T202112
CREATED:20251129T001217Z
LAST-MODIFIED:20251129T001259Z
UID:8274-1764327600-1764532800@writersblockak.com
SUMMARY:Books & Merchandise 10% off through Sunday\, Nov. 30
DESCRIPTION:
URL:https://writersblockak.com/event/books-merchandise-10-off-through-sunday-nov-30/
END:VEVENT
END:VCALENDAR