BEGIN:VCALENDAR
VERSION:2.0
PRODID:-//The Writer&#039;s Block Books &amp; Events - ECPv5.9.2//NONSGML v1.0//EN
CALSCALE:GREGORIAN
METHOD:PUBLISH
X-WR-CALNAME:The Writer&#039;s Block Books &amp; Events
X-ORIGINAL-URL:https://writersblockak.com
X-WR-CALDESC:Events for The Writer&#039;s Block Books &amp; Events
BEGIN:VTIMEZONE
TZID:America/Anchorage
BEGIN:DAYLIGHT
TZOFFSETFROM:-0900
TZOFFSETTO:-0800
TZNAME:AKDT
DTSTART:20260308T110000
END:DAYLIGHT
BEGIN:STANDARD
TZOFFSETFROM:-0800
TZOFFSETTO:-0900
TZNAME:AKST
DTSTART:20261101T100000
END:STANDARD
END:VTIMEZONE
BEGIN:VEVENT
DTSTART;VALUE=DATE:20260116
DTEND;VALUE=DATE:20260117
DTSTAMP:20260424T084526
CREATED:20251215T035613Z
LAST-MODIFIED:20251215T035613Z
UID:8280-1768521600-1768607999@writersblockak.com
SUMMARY:”Books are a uniquely portable magic.” – Stephen King\, On Writing: A Memoir of the Craft
DESCRIPTION:
URL:https://writersblockak.com/event/books-are-a-uniquely-portable-magic-stephen-king-on-writing-a-memoir-of-the-craft/
END:VEVENT
END:VCALENDAR