BEGIN:VCALENDAR
VERSION:2.0
PRODID:-//The Writer&#039;s Block Books &amp; Events - ECPv5.9.2//NONSGML v1.0//EN
CALSCALE:GREGORIAN
METHOD:PUBLISH
X-WR-CALNAME:The Writer&#039;s Block Books &amp; Events
X-ORIGINAL-URL:https://writersblockak.com
X-WR-CALDESC:Events for The Writer&#039;s Block Books &amp; Events
BEGIN:VTIMEZONE
TZID:America/Anchorage
BEGIN:DAYLIGHT
TZOFFSETFROM:-0900
TZOFFSETTO:-0800
TZNAME:AKDT
DTSTART:20250309T110000
END:DAYLIGHT
BEGIN:STANDARD
TZOFFSETFROM:-0800
TZOFFSETTO:-0900
TZNAME:AKST
DTSTART:20251102T100000
END:STANDARD
END:VTIMEZONE
BEGIN:VEVENT
DTSTART;TZID=America/Anchorage:20251206T140000
DTEND;TZID=America/Anchorage:20251206T170000
DTSTAMP:20260423T060549
CREATED:20251115T022014Z
LAST-MODIFIED:20251123T233329Z
UID:8231-1765029600-1765040400@writersblockak.com
SUMMARY:Free Book Fair  -  K-12 Student's Choice - click for details
DESCRIPTION:Free books for K – 12\, selections  from Children’s\, Middle Reader and Young Adult sections of the shop. \nAll K through 12 Students are welcome\,  must be accompanied by an adult. \nSponsored by Fuse and Traverse. \n 
URL:https://writersblockak.com/event/book-of-your-choice-gifting-books-for-k-12/
END:VEVENT
END:VCALENDAR