BEGIN:VCALENDAR
VERSION:2.0
PRODID:-//The Writer&#039;s Block Books &amp; Events - ECPv5.9.2//NONSGML v1.0//EN
CALSCALE:GREGORIAN
METHOD:PUBLISH
X-WR-CALNAME:The Writer&#039;s Block Books &amp; Events
X-ORIGINAL-URL:https://writersblockak.com
X-WR-CALDESC:Events for The Writer&#039;s Block Books &amp; Events
BEGIN:VTIMEZONE
TZID:America/Anchorage
BEGIN:DAYLIGHT
TZOFFSETFROM:-0900
TZOFFSETTO:-0800
TZNAME:AKDT
DTSTART:20240310T110000
END:DAYLIGHT
BEGIN:STANDARD
TZOFFSETFROM:-0800
TZOFFSETTO:-0900
TZNAME:AKST
DTSTART:20241103T100000
END:STANDARD
END:VTIMEZONE
BEGIN:VEVENT
DTSTART;TZID=America/Anchorage:20240214T173000
DTEND;TZID=America/Anchorage:20240214T200000
DTSTAMP:20260425T123049
CREATED:20240124T052119Z
LAST-MODIFIED:20240126T053151Z
UID:6970-1707931800-1707940800@writersblockak.com
SUMMARY:Blind Date w/ a Book!
DESCRIPTION:Your date includes  a main course\, desert and a libation of your choice\, and the “blind date”: a gift-wrapped book for your reading pleasure. \nSubmit your reservation request and we’ll call you to get a credit card number to reserve your seat(s).\nWe will be in touch within 24 hours.\n\n$60 per person\n\nTwo Seatings : 5:30pm & 6:30pm\n\nReserve your seat(s) HERE!
URL:https://writersblockak.com/event/blind-date-w-a-book/
END:VEVENT
END:VCALENDAR