BEGIN:VCALENDAR
VERSION:2.0
PRODID:-//The Writer&#039;s Block Books &amp; Events - ECPv5.9.2//NONSGML v1.0//EN
CALSCALE:GREGORIAN
METHOD:PUBLISH
X-WR-CALNAME:The Writer&#039;s Block Books &amp; Events
X-ORIGINAL-URL:https://writersblockak.com
X-WR-CALDESC:Events for The Writer&#039;s Block Books &amp; Events
BEGIN:VTIMEZONE
TZID:America/Anchorage
BEGIN:DAYLIGHT
TZOFFSETFROM:-0900
TZOFFSETTO:-0800
TZNAME:AKDT
DTSTART:20230312T110000
END:DAYLIGHT
BEGIN:STANDARD
TZOFFSETFROM:-0800
TZOFFSETTO:-0900
TZNAME:AKST
DTSTART:20231105T100000
END:STANDARD
END:VTIMEZONE
BEGIN:VEVENT
DTSTART;TZID=America/Anchorage:20230722T130000
DTEND;TZID=America/Anchorage:20230722T160000
DTSTAMP:20260424T100714
CREATED:20230716T202244Z
LAST-MODIFIED:20230716T202916Z
UID:6672-1690030800-1690041600@writersblockak.com
SUMMARY:Alaska Song of the Wild book launch and conversation about the Alaska Clean Energy Power Project
DESCRIPTION:Deerdrei Vu\, owner of a solar company here in Las Vegas\, Nevada\, and founder of the Alaska Renewable Power Project will share her illustrated book of poetry and lead a discussion about clean energy programs\, jobs\, and solutions. \n 
URL:https://writersblockak.com/event/alaska-song-of-the-wild-book-launch-and-conversation-about-the-alaska-clean-energy-power-project/
END:VEVENT
END:VCALENDAR