BEGIN:VCALENDAR
VERSION:2.0
PRODID:-//The Writer&#039;s Block Books &amp; Events - ECPv5.9.2//NONSGML v1.0//EN
CALSCALE:GREGORIAN
METHOD:PUBLISH
X-WR-CALNAME:The Writer&#039;s Block Books &amp; Events
X-ORIGINAL-URL:https://writersblockak.com
X-WR-CALDESC:Events for The Writer&#039;s Block Books &amp; Events
BEGIN:VTIMEZONE
TZID:America/Anchorage
BEGIN:DAYLIGHT
TZOFFSETFROM:-0900
TZOFFSETTO:-0800
TZNAME:AKDT
DTSTART:20230312T110000
END:DAYLIGHT
BEGIN:STANDARD
TZOFFSETFROM:-0800
TZOFFSETTO:-0900
TZNAME:AKST
DTSTART:20231105T100000
END:STANDARD
END:VTIMEZONE
BEGIN:VEVENT
DTSTART;TZID=America/Anchorage:20230426T130000
DTEND;TZID=America/Anchorage:20230426T180000
DTSTAMP:20260424T150420
CREATED:20230401T084313Z
LAST-MODIFIED:20230419T182142Z
UID:6505-1682514000-1682532000@writersblockak.com
SUMMARY:Alaska Entrepreneurs Co-Working Day
DESCRIPTION:Hang out and work with local\, independent Alaskan business owners all day long. This is perfect for people who want to connect\, network outside their work-from-home environment.
URL:https://writersblockak.com/event/alaska-entrepreneurs-gathering/
END:VEVENT
END:VCALENDAR