BEGIN:VCALENDAR
VERSION:2.0
PRODID:-//The Writer&#039;s Block Books &amp; Events - ECPv5.9.2//NONSGML v1.0//EN
CALSCALE:GREGORIAN
METHOD:PUBLISH
X-WR-CALNAME:The Writer&#039;s Block Books &amp; Events
X-ORIGINAL-URL:http://writersblockak.com
X-WR-CALDESC:Events for The Writer&#039;s Block Books &amp; Events
BEGIN:VTIMEZONE
TZID:America/Anchorage
BEGIN:DAYLIGHT
TZOFFSETFROM:-0900
TZOFFSETTO:-0800
TZNAME:AKDT
DTSTART:20240310T110000
END:DAYLIGHT
BEGIN:STANDARD
TZOFFSETFROM:-0800
TZOFFSETTO:-0900
TZNAME:AKST
DTSTART:20241103T100000
END:STANDARD
END:VTIMEZONE
BEGIN:VEVENT
DTSTART;TZID=America/Anchorage:20240328T180000
DTEND;TZID=America/Anchorage:20240328T200000
DTSTAMP:20260423T131015
CREATED:20240126T060551Z
LAST-MODIFIED:20240218T081527Z
UID:7005-1711648800-1711656000@writersblockak.com
SUMMARY:Shain Shapiro reading: This Must Be the Place--How Music Can Make Your City Better
DESCRIPTION:Book reading\, music\, discussion. Join the conversation about how music can make your city better. Shain Shapiro talks about his book. Music by Matt Hopper and the Pipeline Vocal Pr
URL:http://writersblockak.com/event/shain-shapiro-reading-this-must-be-the-place-how-music-can-make-your-city-better/
CATEGORIES:book reading,Music
END:VEVENT
END:VCALENDAR