BEGIN:VCALENDAR
VERSION:2.0
PRODID:-//The Writer&#039;s Block Books &amp; Events - ECPv5.9.2//NONSGML v1.0//EN
CALSCALE:GREGORIAN
METHOD:PUBLISH
X-WR-CALNAME:The Writer&#039;s Block Books &amp; Events
X-ORIGINAL-URL:http://writersblockak.com
X-WR-CALDESC:Events for The Writer&#039;s Block Books &amp; Events
BEGIN:VTIMEZONE
TZID:America/Anchorage
BEGIN:DAYLIGHT
TZOFFSETFROM:-0900
TZOFFSETTO:-0800
TZNAME:AKDT
DTSTART:20240310T110000
END:DAYLIGHT
BEGIN:STANDARD
TZOFFSETFROM:-0800
TZOFFSETTO:-0900
TZNAME:AKST
DTSTART:20241103T100000
END:STANDARD
END:VTIMEZONE
BEGIN:VEVENT
DTSTART;TZID=America/Anchorage:20240306T180000
DTEND;TZID=America/Anchorage:20240306T200000
DTSTAMP:20260424T122548
CREATED:20240126T055456Z
LAST-MODIFIED:20240126T055456Z
UID:6991-1709748000-1709755200@writersblockak.com
SUMMARY:AKEAC speaker series: Rediscovering my authenticity through mushrooms and ceremonty
DESCRIPTION:
URL:http://writersblockak.com/event/akeac-speaker-series-rediscovering-my-authenticity-through-mushrooms-and-ceremonty/
CATEGORIES:Music
END:VEVENT
END:VCALENDAR